Package: multiHiCcompare Version: 1.18.1 Command: /Library/Frameworks/R.framework/Resources/bin/R CMD INSTALL multiHiCcompare StartedAt: 2023-10-15 15:22:39 -0400 (Sun, 15 Oct 2023) EndedAt: 2023-10-15 15:24:07 -0400 (Sun, 15 Oct 2023) EllapsedTime: 87.9 seconds RetCode: 0 Status: OK