Package: multiHiCcompare Version: 1.18.1 Command: /Library/Frameworks/R.framework/Resources/bin/R CMD check --install=check:multiHiCcompare.install-out.txt --library=/Library/Frameworks/R.framework/Resources/library --no-vignettes --timings multiHiCcompare_1.18.1.tar.gz StartedAt: 2023-10-16 04:27:19 -0400 (Mon, 16 Oct 2023) EndedAt: 2023-10-16 04:36:34 -0400 (Mon, 16 Oct 2023) EllapsedTime: 554.3 seconds RetCode: 0 Status: OK CheckDir: multiHiCcompare.Rcheck Warnings: 0