Package: multiHiCcompare Version: 1.18.1 Command: /Library/Frameworks/R.framework/Resources/bin/R CMD build --keep-empty-dirs --no-resave-data multiHiCcompare StartedAt: 2023-10-15 19:47:30 -0400 (Sun, 15 Oct 2023) EndedAt: 2023-10-15 19:50:09 -0400 (Sun, 15 Oct 2023) EllapsedTime: 159.1 seconds RetCode: 0 Status: OK PackageFile: multiHiCcompare_1.18.1.tar.gz PackageFileSize: 4.626 MiB