Package: multiGSEA Version: 1.10.0 Command: chmod a+r multiGSEA -R && F:\biocbuild\bbs-3.17-bioc\R\bin\R.exe CMD build --keep-empty-dirs --no-resave-data multiGSEA StartedAt: 2023-10-15 20:44:34 -0400 (Sun, 15 Oct 2023) EndedAt: 2023-10-15 20:58:02 -0400 (Sun, 15 Oct 2023) EllapsedTime: 808.3 seconds RetCode: 0 Status: OK PackageFile: multiGSEA_1.10.0.tar.gz PackageFileSize: 952.5 KiB