Package: multiGSEA Version: 1.10.0 Command: /home/biocbuild/bbs-3.17-bioc/R/bin/R CMD build --keep-empty-dirs --no-resave-data multiGSEA StartedAt: 2023-10-15 17:35:59 -0400 (Sun, 15 Oct 2023) EndedAt: 2023-10-15 17:55:40 -0400 (Sun, 15 Oct 2023) EllapsedTime: 1181.8 seconds RetCode: 0 Status: OK PackageFile: multiGSEA_1.10.0.tar.gz PackageFileSize: 952.4 KiB