Package: multiGSEA Version: 1.10.0 Command: /Library/Frameworks/R.framework/Resources/bin/R CMD INSTALL multiGSEA StartedAt: 2023-10-15 16:29:38 -0400 (Sun, 15 Oct 2023) EndedAt: 2023-10-15 16:33:19 -0400 (Sun, 15 Oct 2023) EllapsedTime: 220.9 seconds RetCode: 0 Status: OK