Package: multiGSEA Version: 1.10.0 Command: /Library/Frameworks/R.framework/Resources/bin/R CMD build --keep-empty-dirs --no-resave-data multiGSEA StartedAt: 2023-10-15 19:47:22 -0400 (Sun, 15 Oct 2023) EndedAt: 2023-10-15 20:21:11 -0400 (Sun, 15 Oct 2023) EllapsedTime: 2028.7 seconds RetCode: 0 Status: OK PackageFile: multiGSEA_1.10.0.tar.gz PackageFileSize: 952.3 KiB