Package: multiClust Version: 1.30.0 Command: chmod a+r multiClust -R && F:\biocbuild\bbs-3.17-bioc\R\bin\R.exe CMD build --keep-empty-dirs --no-resave-data multiClust StartedAt: 2023-10-15 20:44:06 -0400 (Sun, 15 Oct 2023) EndedAt: 2023-10-15 20:44:33 -0400 (Sun, 15 Oct 2023) EllapsedTime: 26.1 seconds RetCode: 0 Status: OK PackageFile: multiClust_1.30.0.tar.gz PackageFileSize: 2.932 MiB