Package: multiClust Version: 1.30.0 Command: rm -rf multiClust.buildbin-libdir && mkdir multiClust.buildbin-libdir && F:\biocbuild\bbs-3.17-bioc\R\bin\R.exe CMD INSTALL --build --library=multiClust.buildbin-libdir multiClust_1.30.0.tar.gz StartedAt: 2023-10-16 09:09:03 -0400 (Mon, 16 Oct 2023) EndedAt: 2023-10-16 09:09:18 -0400 (Mon, 16 Oct 2023) EllapsedTime: 15.1 seconds RetCode: 0 Status: OK PackageFile: multiClust_1.30.0.zip PackageFileSize: 2.984 MiB