Package: multiClust Version: 1.30.0 Command: /Library/Frameworks/R.framework/Resources/bin/R CMD INSTALL multiClust StartedAt: 2023-10-15 16:02:12 -0400 (Sun, 15 Oct 2023) EndedAt: 2023-10-15 16:02:37 -0400 (Sun, 15 Oct 2023) EllapsedTime: 24.8 seconds RetCode: 0 Status: OK