Package: multiClust Version: 1.30.0 Command: /Library/Frameworks/R.framework/Resources/bin/R CMD build --keep-empty-dirs --no-resave-data multiClust StartedAt: 2023-10-15 19:46:44 -0400 (Sun, 15 Oct 2023) EndedAt: 2023-10-15 19:47:58 -0400 (Sun, 15 Oct 2023) EllapsedTime: 74.6 seconds RetCode: 0 Status: OK PackageFile: multiClust_1.30.0.tar.gz PackageFileSize: 3.011 MiB