Package: multiClust Version: 1.30.0 Command: rm -rf multiClust.buildbin-libdir && mkdir multiClust.buildbin-libdir && /Users/biocbuild/BBS/utils/build-universal.sh multiClust_1.30.0.tar.gz /Library/Frameworks/R.framework/Resources/bin/R multiClust.buildbin-libdir StartedAt: 2023-10-16 09:47:49 -0400 (Mon, 16 Oct 2023) EndedAt: 2023-10-16 09:48:18 -0400 (Mon, 16 Oct 2023) EllapsedTime: 29.0 seconds RetCode: 0 Status: OK PackageFile: multiClust_1.30.0.tgz PackageFileSize: 3.066 MiB