Package: msmsEDA Version: 1.38.0 Command: /home/biocbuild/bbs-3.17-bioc/R/bin/R CMD INSTALL msmsEDA StartedAt: 2023-10-15 15:19:37 -0400 (Sun, 15 Oct 2023) EndedAt: 2023-10-15 15:19:54 -0400 (Sun, 15 Oct 2023) EllapsedTime: 17.5 seconds RetCode: 0 Status: OK