Package: msmsEDA Version: 1.38.0 Command: /home/biocbuild/bbs-3.17-bioc/R/bin/R CMD check --install=check:msmsEDA.install-out.txt --library=/home/biocbuild/bbs-3.17-bioc/R/site-library --timings msmsEDA_1.38.0.tar.gz StartedAt: 2023-10-15 23:05:53 -0400 (Sun, 15 Oct 2023) EndedAt: 2023-10-15 23:07:18 -0400 (Sun, 15 Oct 2023) EllapsedTime: 84.6 seconds RetCode: 0 Status: OK CheckDir: msmsEDA.Rcheck Warnings: 0