Package: msmsEDA Version: 1.38.0 Command: /home/biocbuild/bbs-3.17-bioc/R/bin/R CMD build --keep-empty-dirs --no-resave-data msmsEDA StartedAt: 2023-10-15 17:33:58 -0400 (Sun, 15 Oct 2023) EndedAt: 2023-10-15 17:34:21 -0400 (Sun, 15 Oct 2023) EllapsedTime: 23.2 seconds RetCode: 0 Status: OK PackageFile: msmsEDA_1.38.0.tar.gz PackageFileSize: 333.7 KiB