Package: msmsEDA Version: 1.38.0 Command: /Library/Frameworks/R.framework/Resources/bin/R CMD build --keep-empty-dirs --no-resave-data msmsEDA StartedAt: 2023-10-15 19:42:12 -0400 (Sun, 15 Oct 2023) EndedAt: 2023-10-15 19:43:33 -0400 (Sun, 15 Oct 2023) EllapsedTime: 81.7 seconds RetCode: 0 Status: OK PackageFile: msmsEDA_1.38.0.tar.gz PackageFileSize: 439.3 KiB