Package: msmsEDA Version: 1.38.0 Command: rm -rf msmsEDA.buildbin-libdir && mkdir msmsEDA.buildbin-libdir && /Users/biocbuild/BBS/utils/build-universal.sh msmsEDA_1.38.0.tar.gz /Library/Frameworks/R.framework/Resources/bin/R msmsEDA.buildbin-libdir StartedAt: 2023-10-16 09:47:14 -0400 (Mon, 16 Oct 2023) EndedAt: 2023-10-16 09:48:11 -0400 (Mon, 16 Oct 2023) EllapsedTime: 57.1 seconds RetCode: 0 Status: OK PackageFile: msmsEDA_1.38.0.tgz PackageFileSize: 494.6 KiB