Package: mslp Version: 1.2.0 Command: /home/biocbuild/bbs-3.17-bioc/R/bin/R CMD build --keep-empty-dirs --no-resave-data mslp StartedAt: 2023-10-15 17:33:47 -0400 (Sun, 15 Oct 2023) EndedAt: 2023-10-15 17:34:17 -0400 (Sun, 15 Oct 2023) EllapsedTime: 30.2 seconds RetCode: 0 Status: OK PackageFile: mslp_1.2.0.tar.gz PackageFileSize: 407.5 KiB