Package: mslp Version: 1.2.0 Command: /Library/Frameworks/R.framework/Resources/bin/R CMD check --install=check:mslp.install-out.txt --library=/Library/Frameworks/R.framework/Resources/library --no-vignettes --timings mslp_1.2.0.tar.gz StartedAt: 2023-10-16 04:20:01 -0400 (Mon, 16 Oct 2023) EndedAt: 2023-10-16 04:22:29 -0400 (Mon, 16 Oct 2023) EllapsedTime: 148.0 seconds RetCode: 0 Status: OK CheckDir: mslp.Rcheck Warnings: 0