Package: msgbsR Version: 1.24.0 Command: /home/biocbuild/bbs-3.17-bioc/R/bin/R CMD build --keep-empty-dirs --no-resave-data msgbsR StartedAt: 2023-10-15 17:33:45 -0400 (Sun, 15 Oct 2023) EndedAt: 2023-10-15 17:35:14 -0400 (Sun, 15 Oct 2023) EllapsedTime: 88.7 seconds RetCode: 0 Status: OK PackageFile: msgbsR_1.24.0.tar.gz PackageFileSize: 15.16 MiB