Package: msgbsR Version: 1.24.0 Command: /Library/Frameworks/R.framework/Resources/bin/R CMD check --install=check:msgbsR.install-out.txt --library=/Library/Frameworks/R.framework/Resources/library --no-vignettes --timings msgbsR_1.24.0.tar.gz StartedAt: 2023-10-16 04:19:29 -0400 (Mon, 16 Oct 2023) EndedAt: 2023-10-16 04:35:06 -0400 (Mon, 16 Oct 2023) EllapsedTime: 937.3 seconds RetCode: 0 Status: OK CheckDir: msgbsR.Rcheck Warnings: 0