Package: msa Version: 1.32.0 Command: chmod a+r msa -R && F:\biocbuild\bbs-3.17-bioc\R\bin\R.exe CMD build --keep-empty-dirs --no-resave-data msa StartedAt: 2023-10-15 20:38:15 -0400 (Sun, 15 Oct 2023) EndedAt: 2023-10-15 20:47:44 -0400 (Sun, 15 Oct 2023) EllapsedTime: 568.1 seconds RetCode: 0 Status: OK PackageFile: msa_1.32.0.tar.gz PackageFileSize: 4.007 MiB