Package: msa Version: 1.32.0 Command: /home/biocbuild/bbs-3.17-bioc/R/bin/R CMD INSTALL msa StartedAt: 2023-10-15 15:11:06 -0400 (Sun, 15 Oct 2023) EndedAt: 2023-10-15 15:16:18 -0400 (Sun, 15 Oct 2023) EllapsedTime: 311.9 seconds RetCode: 0 Status: OK