Package: msa Version: 1.32.0 Command: /home/biocbuild/bbs-3.17-bioc/R/bin/R CMD build --keep-empty-dirs --no-resave-data msa StartedAt: 2023-10-15 17:32:55 -0400 (Sun, 15 Oct 2023) EndedAt: 2023-10-15 17:38:24 -0400 (Sun, 15 Oct 2023) EllapsedTime: 329.9 seconds RetCode: 0 Status: OK PackageFile: msa_1.32.0.tar.gz PackageFileSize: 4.005 MiB