Package: msa Version: 1.32.0 Command: rm -rf msa.buildbin-libdir && mkdir msa.buildbin-libdir && /Users/biocbuild/BBS/utils/build-universal.sh msa_1.32.0.tar.gz /Library/Frameworks/R.framework/Resources/bin/R msa.buildbin-libdir StartedAt: 2023-10-16 09:46:36 -0400 (Mon, 16 Oct 2023) EndedAt: 2023-10-16 10:08:09 -0400 (Mon, 16 Oct 2023) EllapsedTime: 1293.1 seconds RetCode: 0 Status: OK PackageFile: msa_1.32.0.tgz PackageFileSize: 1.87 MiB