Package: msPurity Version: 1.26.0 Command: chmod a+r msPurity -R && F:\biocbuild\bbs-3.17-bioc\R\bin\R.exe CMD build --keep-empty-dirs --no-resave-data msPurity StartedAt: 2023-10-15 20:41:32 -0400 (Sun, 15 Oct 2023) EndedAt: 2023-10-15 21:02:39 -0400 (Sun, 15 Oct 2023) EllapsedTime: 1267.3 seconds RetCode: 0 Status: OK PackageFile: msPurity_1.26.0.tar.gz PackageFileSize: 11.28 MiB