Package: msPurity Version: 1.26.0 Command: rm -rf msPurity.buildbin-libdir && mkdir msPurity.buildbin-libdir && F:\biocbuild\bbs-3.17-bioc\R\bin\R.exe CMD INSTALL --build --library=msPurity.buildbin-libdir msPurity_1.26.0.tar.gz StartedAt: 2023-10-16 09:08:12 -0400 (Mon, 16 Oct 2023) EndedAt: 2023-10-16 09:08:44 -0400 (Mon, 16 Oct 2023) EllapsedTime: 31.9 seconds RetCode: 0 Status: OK PackageFile: msPurity_1.26.0.zip PackageFileSize: 11.33 MiB