Package: msPurity Version: 1.26.0 Command: /Library/Frameworks/R.framework/Resources/bin/R CMD build --keep-empty-dirs --no-resave-data msPurity StartedAt: 2023-10-15 19:43:23 -0400 (Sun, 15 Oct 2023) EndedAt: 2023-10-15 20:04:58 -0400 (Sun, 15 Oct 2023) EllapsedTime: 1295.5 seconds RetCode: 1 Status: ERROR PackageFile: None PackageFileSize: NA