Package: mpra Version: 1.22.0 Command: /home/biocbuild/bbs-3.17-bioc/R/bin/R CMD check --install=check:mpra.install-out.txt --library=/home/biocbuild/bbs-3.17-bioc/R/site-library --timings mpra_1.22.0.tar.gz StartedAt: 2023-10-15 23:03:10 -0400 (Sun, 15 Oct 2023) EndedAt: 2023-10-15 23:06:12 -0400 (Sun, 15 Oct 2023) EllapsedTime: 182.4 seconds RetCode: 0 Status: OK CheckDir: mpra.Rcheck Warnings: 0