Package: mpra Version: 1.22.0 Command: /Library/Frameworks/R.framework/Resources/bin/R CMD build --keep-empty-dirs --no-resave-data mpra StartedAt: 2023-10-15 19:39:05 -0400 (Sun, 15 Oct 2023) EndedAt: 2023-10-15 19:40:50 -0400 (Sun, 15 Oct 2023) EllapsedTime: 105.0 seconds RetCode: 0 Status: OK PackageFile: mpra_1.22.0.tar.gz PackageFileSize: 3.062 MiB