Package: mpra Version: 1.22.0 Command: rm -rf mpra.buildbin-libdir && mkdir mpra.buildbin-libdir && /Users/biocbuild/BBS/utils/build-universal.sh mpra_1.22.0.tar.gz /Library/Frameworks/R.framework/Resources/bin/R mpra.buildbin-libdir StartedAt: 2023-10-16 09:46:30 -0400 (Mon, 16 Oct 2023) EndedAt: 2023-10-16 09:47:47 -0400 (Mon, 16 Oct 2023) EllapsedTime: 76.9 seconds RetCode: 0 Status: OK PackageFile: mpra_1.22.0.tgz PackageFileSize: 3.247 MiB