Package: motifmatchr Version: 1.22.0 Command: F:\biocbuild\bbs-3.17-bioc\R\bin\R.exe CMD INSTALL motifmatchr StartedAt: 2023-10-15 16:16:48 -0400 (Sun, 15 Oct 2023) EndedAt: 2023-10-15 16:18:07 -0400 (Sun, 15 Oct 2023) EllapsedTime: 79.5 seconds RetCode: 0 Status: OK