Package: motifmatchr Version: 1.22.0 Command: F:\biocbuild\bbs-3.17-bioc\R\bin\R.exe CMD check --no-multiarch --install=check:motifmatchr.install-out.txt --library=F:\biocbuild\bbs-3.17-bioc\R\library --no-vignettes --timings motifmatchr_1.22.0.tar.gz StartedAt: 2023-10-16 04:20:53 -0400 (Mon, 16 Oct 2023) EndedAt: 2023-10-16 04:25:55 -0400 (Mon, 16 Oct 2023) EllapsedTime: 301.3 seconds RetCode: 0 Status: OK CheckDir: motifmatchr.Rcheck Warnings: 0