Package: motifmatchr Version: 1.22.0 Command: rm -rf motifmatchr.buildbin-libdir && mkdir motifmatchr.buildbin-libdir && F:\biocbuild\bbs-3.17-bioc\R\bin\R.exe CMD INSTALL --build --library=motifmatchr.buildbin-libdir motifmatchr_1.22.0.tar.gz StartedAt: 2023-10-16 09:07:20 -0400 (Mon, 16 Oct 2023) EndedAt: 2023-10-16 09:08:41 -0400 (Mon, 16 Oct 2023) EllapsedTime: 80.9 seconds RetCode: 0 Status: OK PackageFile: motifmatchr_1.22.0.zip PackageFileSize: 504.7 KiB