Package: motifmatchr Version: 1.22.0 Command: /Library/Frameworks/R.framework/Resources/bin/R CMD INSTALL motifmatchr StartedAt: 2023-10-15 15:39:48 -0400 (Sun, 15 Oct 2023) EndedAt: 2023-10-15 15:43:19 -0400 (Sun, 15 Oct 2023) EllapsedTime: 210.9 seconds RetCode: 0 Status: OK