Package: motifmatchr Version: 1.22.0 Command: /Library/Frameworks/R.framework/Resources/bin/R CMD build --keep-empty-dirs --no-resave-data motifmatchr StartedAt: 2023-10-15 19:38:30 -0400 (Sun, 15 Oct 2023) EndedAt: 2023-10-15 19:43:21 -0400 (Sun, 15 Oct 2023) EllapsedTime: 291.0 seconds RetCode: 0 Status: OK PackageFile: motifmatchr_1.22.0.tar.gz PackageFileSize: 51.94 KiB