Package: motifmatchr Version: 1.22.0 Command: rm -rf motifmatchr.buildbin-libdir && mkdir motifmatchr.buildbin-libdir && /Users/biocbuild/BBS/utils/build-universal.sh motifmatchr_1.22.0.tar.gz /Library/Frameworks/R.framework/Resources/bin/R motifmatchr.buildbin-libdir StartedAt: 2023-10-16 09:46:08 -0400 (Mon, 16 Oct 2023) EndedAt: 2023-10-16 09:49:49 -0400 (Mon, 16 Oct 2023) EllapsedTime: 220.5 seconds RetCode: 0 Status: OK PackageFile: motifmatchr_1.22.0.tgz PackageFileSize: 195 KiB