Package: motifcounter Version: 1.24.0 Command: F:\biocbuild\bbs-3.17-bioc\R\bin\R.exe CMD INSTALL motifcounter StartedAt: 2023-10-15 15:57:38 -0400 (Sun, 15 Oct 2023) EndedAt: 2023-10-15 15:58:07 -0400 (Sun, 15 Oct 2023) EllapsedTime: 29.1 seconds RetCode: 0 Status: OK