Package: motifcounter Version: 1.24.0 Command: /home/biocbuild/bbs-3.17-bioc/R/bin/R CMD build --keep-empty-dirs --no-resave-data motifcounter StartedAt: 2023-10-15 17:31:40 -0400 (Sun, 15 Oct 2023) EndedAt: 2023-10-15 17:32:50 -0400 (Sun, 15 Oct 2023) EllapsedTime: 70.4 seconds RetCode: 0 Status: OK PackageFile: motifcounter_1.24.0.tar.gz PackageFileSize: 544.9 KiB