Package: motifcounter Version: 1.24.0 Command: /Library/Frameworks/R.framework/Resources/bin/R CMD INSTALL motifcounter StartedAt: 2023-10-15 15:15:34 -0400 (Sun, 15 Oct 2023) EndedAt: 2023-10-15 15:16:16 -0400 (Sun, 15 Oct 2023) EllapsedTime: 42.1 seconds RetCode: 0 Status: OK