Package: motifcounter Version: 1.24.0 Command: /Library/Frameworks/R.framework/Resources/bin/R CMD check --install=check:motifcounter.install-out.txt --library=/Library/Frameworks/R.framework/Resources/library --no-vignettes --timings motifcounter_1.24.0.tar.gz StartedAt: 2023-10-16 04:12:19 -0400 (Mon, 16 Oct 2023) EndedAt: 2023-10-16 04:20:45 -0400 (Mon, 16 Oct 2023) EllapsedTime: 506.2 seconds RetCode: 0 Status: OK CheckDir: motifcounter.Rcheck Warnings: 0