Package: motifcounter Version: 1.24.0 Command: /Library/Frameworks/R.framework/Resources/bin/R CMD build --keep-empty-dirs --no-resave-data motifcounter StartedAt: 2023-10-15 19:38:18 -0400 (Sun, 15 Oct 2023) EndedAt: 2023-10-15 19:40:52 -0400 (Sun, 15 Oct 2023) EllapsedTime: 154.0 seconds RetCode: 0 Status: OK PackageFile: motifcounter_1.24.0.tar.gz PackageFileSize: 553.5 KiB