Package: motifcounter Version: 1.24.0 Command: rm -rf motifcounter.buildbin-libdir && mkdir motifcounter.buildbin-libdir && /Users/biocbuild/BBS/utils/build-universal.sh motifcounter_1.24.0.tar.gz /Library/Frameworks/R.framework/Resources/bin/R motifcounter.buildbin-libdir StartedAt: 2023-10-16 09:46:00 -0400 (Mon, 16 Oct 2023) EndedAt: 2023-10-16 09:46:50 -0400 (Mon, 16 Oct 2023) EllapsedTime: 49.5 seconds RetCode: 0 Status: OK PackageFile: motifcounter_1.24.0.tgz PackageFileSize: 681.7 KiB