Package: motifbreakR Version: 2.14.2 Command: F:\biocbuild\bbs-3.17-bioc\R\bin\R.exe CMD INSTALL motifbreakR StartedAt: 2023-10-15 16:32:43 -0400 (Sun, 15 Oct 2023) EndedAt: 2023-10-15 16:34:01 -0400 (Sun, 15 Oct 2023) EllapsedTime: 78.6 seconds RetCode: 0 Status: OK