Package: motifbreakR Version: 2.14.2 Command: chmod a+r motifbreakR -R && F:\biocbuild\bbs-3.17-bioc\R\bin\R.exe CMD build --keep-empty-dirs --no-resave-data motifbreakR StartedAt: 2023-10-15 20:36:12 -0400 (Sun, 15 Oct 2023) EndedAt: 2023-10-15 21:08:01 -0400 (Sun, 15 Oct 2023) EllapsedTime: 1909.2 seconds RetCode: 0 Status: OK PackageFile: motifbreakR_2.14.2.tar.gz PackageFileSize: 2.013 MiB