Package: motifbreakR Version: 2.14.2 Command: rm -rf motifbreakR.buildbin-libdir && mkdir motifbreakR.buildbin-libdir && F:\biocbuild\bbs-3.17-bioc\R\bin\R.exe CMD INSTALL --build --library=motifbreakR.buildbin-libdir motifbreakR_2.14.2.tar.gz StartedAt: 2023-10-16 09:07:15 -0400 (Mon, 16 Oct 2023) EndedAt: 2023-10-16 09:08:34 -0400 (Mon, 16 Oct 2023) EllapsedTime: 78.8 seconds RetCode: 0 Status: OK PackageFile: motifbreakR_2.14.2.zip PackageFileSize: 1.947 MiB