Package: motifbreakR Version: 2.14.2 Command: /home/biocbuild/bbs-3.17-bioc/R/bin/R CMD INSTALL motifbreakR StartedAt: 2023-10-15 15:31:54 -0400 (Sun, 15 Oct 2023) EndedAt: 2023-10-15 15:33:01 -0400 (Sun, 15 Oct 2023) EllapsedTime: 66.7 seconds RetCode: 0 Status: OK