Package: motifbreakR Version: 2.14.2 Command: /Library/Frameworks/R.framework/Resources/bin/R CMD INSTALL motifbreakR StartedAt: 2023-10-15 15:56:08 -0400 (Sun, 15 Oct 2023) EndedAt: 2023-10-15 15:59:42 -0400 (Sun, 15 Oct 2023) EllapsedTime: 213.6 seconds RetCode: 0 Status: OK