Package: motifbreakR Version: 2.14.2 Command: /Library/Frameworks/R.framework/Resources/bin/R CMD check --install=check:motifbreakR.install-out.txt --library=/Library/Frameworks/R.framework/Resources/library --no-vignettes --timings motifbreakR_2.14.2.tar.gz StartedAt: 2023-10-16 04:12:00 -0400 (Mon, 16 Oct 2023) EndedAt: 2023-10-16 04:35:26 -0400 (Mon, 16 Oct 2023) EllapsedTime: 1406.6 seconds RetCode: 0 Status: WARNINGS CheckDir: motifbreakR.Rcheck Warnings: 1