Package: mosbi Version: 1.6.0 Command: chmod a+r mosbi -R && F:\biocbuild\bbs-3.17-bioc\R\bin\R.exe CMD build --keep-empty-dirs --no-resave-data mosbi StartedAt: 2023-10-15 20:36:02 -0400 (Sun, 15 Oct 2023) EndedAt: 2023-10-15 20:38:44 -0400 (Sun, 15 Oct 2023) EllapsedTime: 161.6 seconds RetCode: 0 Status: OK PackageFile: mosbi_1.6.0.tar.gz PackageFileSize: 1.074 MiB